Workbook
Name 銀行口座登録: 銀行口座登録!$C$3:$C$10

Sheet マスタ
A1: カテゴリ | B1: 入会金 | C1: 年会費 | D1: 決済名義 | E1: 科目
A2: Senior CLASS | B2: 10000 | C2: 10000 | D2: 法人名義 | E2: 当座
A3: Beginner CLASS | B3: 10000 | C3: 10000 | D3: 個人名義 | E3: 普通
A4: Princess CLASS | B4: 10000 | C4: 10000
A5: Middle CLASS | B5: 15000 | C5: 15000
A6: Single CLASS | B6: 20000 | C6: 20000
A7: Talent CLASS | B7: 30000 | C7: 10000
A8: Athlete CLASS | B8: 20000 | C8: 20000
A9: All CLASS | B9: 30000 | C9: 30000
A10: 大学男子 | B10: 無料 | C10: 10000
A11: 大学女子 | B11: 無料 | C11: 10000
A12: 高校男子 | B12: 無料 | C12: 5000
A13: 高校女子 | B13: 無料 | C13: 5000

Sheet 法人会員申込手順
B2: 一般社団法人日本ゴルフリーグ連盟
B3: Japan Golf League Federation
B4: Since 2026.07.01
B6: 法人会員申込手順
B8: １．加盟者情報の入力
B9: 『加盟者情報 - 企業・団体名「〇〇〇〇」』シートの必要項目（CからR列）を記入
B10: カテゴリは項目から選択
B12: ２．年会費決済名義の選択
B13: 『会費決済』シートにて、年会費の決済名義を法人名義・個人名義から選択
B15: ３．銀行口座登録
B16: 賞金振込先口座として、『銀行口座登録』シートに口座情報を入力
B18: ４．会員申込
... B28: 年会費：会員登録完了日（入会金振込日）から7日以内

Sheet 加盟者情報 - 企業・団体名「〇〇〇〇」
A1: ※C～R列を記載
A2: ※登録名：掲示板の表示名
A4: システムID | B4: 会員番号 | C4: メールアドレス | D4: 姓 | E4: 名 | F4: セイ | G4: メイ | H4: 登録名※ | I4: 性別 | J4: 生年月日 | K4: 申込日 | L4: 郵便番号 | M4: 都道府県 | N4: 市区町村 | O4: 丁目番地 | P4: 建物名/部屋番号 | Q4: 電話番号 | R4: カテゴリ | S4: 入会金 | T4: 年会費
S5: =IF($R5="","",VLOOKUP($R5,マスタ!$A$1:$C$13,2,0)) | T5: =IF($R5="","",VLOOKUP($R5,マスタ!$A$1:$C$13,3,0))
S6: =IF($R6="","",VLOOKUP($R6,マスタ!$A$1:$C$13,2,0)) | T6: =IF($R6="","",VLOOKUP($R6,マスタ!$A$1:$C$13,3,0))
S7: =IF($R7="","",VLOOKUP($R7,マスタ!$A$1:$C$13,2,0)) | T7: =IF($R7="","",VLOOKUP($R7,マスタ!$A$1:$C$13,3,0))
S8: =IF($R8="","",VLOOKUP($R8,マスタ!$A$1:$C$13,2,0)) | T8: =IF($R8="","",VLOOKUP($R8,マスタ!$A$1:$C$13,3,0))
S9: =IF($R9="","",VLOOKUP($R9,マスタ!$A$1:$C$13,2,0)) | T9: =IF($R9="","",VLOOKUP($R9,マスタ!$A$1:$C$13,3,0))
S10: =IF($R10="","",VLOOKUP($R10,マスタ!$A$1:$C$13,2,0)) | T10: =IF($R10="","",VLOOKUP($R10,マスタ!$A$1:$C$13,3,0))
S11: =IF($R11="","",VLOOKUP($R11,マスタ!$A$1:$C$13,2,0)) | T11: =IF($R11="","",VLOOKUP($R11,マスタ!$A$1:$C$13,3,0))
S12: =IF($R12="","",VLOOKUP($R12,マスタ!$A$1:$C$13,2,0)) | T12: =IF($R12="","",VLOOKUP($R12,マスタ!$A$1:$C$13,3,0))
S13: =IF($R13="","",VLOOKUP($R13,マスタ!$A$1:$C$13,2,0)) | T13: =IF($R13="","",VLOOKUP($R13,マスタ!$A$1:$C$13,3,0))
S14: =IF($R14="","",VLOOKUP($R14,マスタ!$A$1:$C$13,2,0)) | T14: =IF($R14="","",VLOOKUP($R14,マスタ!$A$1:$C$13,3,0))
S15: =IF($R15="","",VLOOKUP($R15,マスタ!$A$1:$C$13,2,0)) | T15: =IF($R15="","",VLOOKUP($R15,マスタ!$A$1:$C$13,3,0))
S16: =IF($R16="","",VLOOKUP($R16,マスタ!$A$1:$C$13,2,0)) | T16: =IF($R16="","",VLOOKUP($R16,マスタ!$A$1:$C$13,3,0))
... S1000: =IF($R1000="","",VLOOKUP($R1000,マスタ!$A$1:$C$13,2,0)) | T1000: =IF($R1000="","",VLOOKUP($R1000,マスタ!$A$1:$C$13,3,0))

Sheet 会費決済
B2: 会費区分 | C2: 決済名義 | D2: 合計額
B3: 入会金 | C3: 法人名義 | D3: =IF('加盟者情報 - 企業・団体名「〇〇〇〇」'!S5="","",TEXT(SUM('加盟者情報 - 企業・団体名「〇〇〇〇」'!S5:'加盟者情報 - 企業・団体名「〇〇〇〇」'!S1000),"#,##0")&"円")
B4: 年会費 | D4: =IF('加盟者情報 - 企業・団体名「〇〇〇〇」'!S6="","",TEXT(SUM('加盟者情報 - 企業・団体名「〇〇〇〇」'!T5:'加盟者情報 - 企業・団体名「〇〇〇〇」'!T1000),"#,##0")&"円")
B6: ※年会費の決済名義を選択してください
B7: ※法人名義にて決済する場合は銀行振込での決済となります
B8: ※個人名義にて決済する場合は会員サイトでの決済となりますが、システム利用料(5%)が発生します
B10: 振込先銀行口座
B12: 銀行名：三井住友銀行（0009） 支店名：トランクＮＯＲＴＨ支店（403） 口座名義：一般社団法人日本ゴルフリーグ連盟 フリガナ：ｼﾔ)ﾆﾎﾝｺﾞﾙﾌﾘｰｸﾞﾚﾝﾒｲ 科目：普通 口座番号：0821038

Sheet 銀行口座登録
B3: 銀行名
B4: 銀行コード
B5: 支店名
B6: 支店コード
B7: 口座名義
B8: フリガナ
B9: 科目
B10: 口座番号
B12: ※当連盟から送金する口座情報をご入力ください
B13: ※賞金の振込は加盟者の獲得した合計額の一括送金となります
B14: ※法人名義で賞金を受領する際は源泉所得税は発生しません(令和8年7月時点）。
B15: 関連する税法・その他法令は税理士にご相談ください。
